BEGIN:VCALENDAR
VERSION:2.0
PRODID:-//theDRILL会員専用ページ - ECPv5.12.4//NONSGML v1.0//EN
CALSCALE:GREGORIAN
METHOD:PUBLISH
X-WR-CALNAME:theDRILL会員専用ページ
X-ORIGINAL-URL:https://the-drill.com
X-WR-CALDESC:theDRILL会員専用ページ のイベント
REFRESH-INTERVAL;VALUE=DURATION:PT1H
X-Robots-Tag:noindex
X-PUBLISHED-TTL:PT1H
BEGIN:VTIMEZONE
TZID:Asia/Tokyo
BEGIN:STANDARD
TZOFFSETFROM:+0900
TZOFFSETTO:+0900
TZNAME:JST
DTSTART:20220101T000000
END:STANDARD
END:VTIMEZONE
BEGIN:VEVENT
DTSTART;TZID=Asia/Tokyo:20220129T080000
DTEND;TZID=Asia/Tokyo:20220129T170000
DTSTAMP:20260422T035518
CREATED:20220119T180011Z
LAST-MODIFIED:20220123T053646Z
UID:1438-1643443200-1643475600@the-drill.com
SUMMARY:セミナー1
DESCRIPTION:セミナーの申し込みはこちら\nセミナータイトル\nこんな方におすすめのセミナーです\n\n経営の役立つ情報が欲しい\n交流も学びも一度にしたい！\n質の良い経営者と知り合いたい\n\n\nテキストが入ります。テキストが入ります。テキストが入ります。テキストが入ります。テキストが入ります。テキストが入ります。テキストが入ります。テキストが入ります。テキストが入ります。テキストが入ります。テキストが入ります。テキストが入ります。テキストが入ります。テキストが入ります。テキストが入ります。テキストが入ります。テキストが入ります。テキストが入ります。テキストが入ります。テキストが入ります。テキストが入ります。テキストが入ります。テキストが入ります。テキストが入ります。テキストが入ります。テキストが入ります。テキストが入ります。テキストが入ります。テキストが入ります。テキストが入ります。テキストが入ります。テキストが入ります。テキストが入ります。テキストが入ります。テキストが入ります。テキストが入ります。テキストが入ります。テキストが入ります。テキストが入ります。テキストが入ります。 \nセミナーの申し込みはこちら
URL:https://the-drill.com/event/%e3%82%bb%e3%83%9f%e3%83%8a%e3%83%bc1/
LOCATION:第1会議室\, 名古屋市中村区\, 日本
CATEGORIES:セミナー情報
ATTACH;FMTTYPE=image/jpeg:https://the-drill.com/wp-content/uploads/2022/01/AdobeStock_455618337.jpg
END:VEVENT
END:VCALENDAR