BEGIN:VCALENDAR
VERSION:2.0
PRODID:-//theDRILL会員専用ページ - ECPv5.12.4//NONSGML v1.0//EN
CALSCALE:GREGORIAN
METHOD:PUBLISH
X-WR-CALNAME:theDRILL会員専用ページ
X-ORIGINAL-URL:https://the-drill.com
X-WR-CALDESC:theDRILL会員専用ページ のイベント
REFRESH-INTERVAL;VALUE=DURATION:PT1H
X-Robots-Tag:noindex
X-PUBLISHED-TTL:PT1H
BEGIN:VTIMEZONE
TZID:Asia/Tokyo
BEGIN:STANDARD
TZOFFSETFROM:+0900
TZOFFSETTO:+0900
TZNAME:JST
DTSTART:20220101T000000
END:STANDARD
END:VTIMEZONE
BEGIN:VEVENT
DTSTART;TZID=Asia/Tokyo:20220218T130000
DTEND;TZID=Asia/Tokyo:20220218T150000
DTSTAMP:20260421T223710
CREATED:20220119T180138Z
LAST-MODIFIED:20220228T070224Z
UID:1442-1645189200-1645196400@the-drill.com
SUMMARY:theDRILLアカデミー ２時間体験セミナー
DESCRIPTION:セミナーの申し込みはこちら\n\n\n\n\ntheDRILLアカデミー ２時間体験セミナー\n\n\n\n\n こんな方におすすめのセミナーです \n\n\n\n経営の役立つ情報が欲しい交流も学びも一度にしたい！質の良い経営者と知り合いたい\n\n\n\n\n\n\n\n\n\nスモールビジネス特化！あなたの今のビジネスのまま利益を4倍にする！＠1000万を突破するための経営戦略勉強the DRILL アカデミー \n\n\n\n一人で商売をしている、ビジネスをしている、事業をしているあなたは、こんな不安を感じたことはありませんか？\n\n\n\nとにかくがんばっているが、利益が出ていないつぶれるほどではないが「実は儲かっていない」実はあまり「儲かっていない」ということを、人に言えない売上を上げたいが、何から手を付ければいいのかわからない技術や商品・サービスには自信があるのに買ってもらえない儲かるための方法が、長時間労働以外思いつかない売上を上げるために、休日も返上して、がむしゃらに働いているやりたいことはあるけどなかなか行動できない仕事の質・スピードが上がらない人生の先行きが不安で、将来が見えない胸を張って「経営者」ですと言えないモチベーションにムラがあり、やる気が持続しない商売は何年もやっているが、成長している感覚がない何かおかしい！でも・・・何がおかしいのかわからないがんばってるのに、思うような成果があげられない\n\n\n\nその解決にこんな考えがありませんか？\n\n\n\nブログを更新しましょう。YouTubeをやりましょう。チラシを撒きましょう。ホームページを見直しましょう。キャッチコピーが大事。いやいや、今はSNSをやりましょう。\n\n\n\n何かやれば今を変えられるかもしれない！そう思って世の中にあふれている「儲かりそう」な情報に翻弄されていませんか？集客やマーケティングは数ある戦略の一つでしかありません。必要なのは、小手先ではない“正統”な経営戦略、しかも一人型・少人数経営に最適なものが必要です。 \n\n\n\nあなたのいまのその環境は、あなたを現状から引き上げてくれるものですか？\n\n\n\nこのスモールビジネス特化型の経営戦略勉強会【the DRILL アカデミー】で作ろうとしているもの、それはtop10%の経営者になるための特別な時間と場所です。 \n\n\n\nこれまでのあなたの「当たり前」の基準を上げる場所です。 \n\n\n\n経営者、個人事業主は、毎日が忙しい。日々やらなければならないことが山積みです。 \n\n\n\nそしてつい目先の仕事に追われ、重要なこと、将来につながる取り組みにそのまま何も手をつけていない・・・。そんな日々が続いてしまっているのであれば、いま何かを変えていく必要があるのかも知れません。 \n\n\n\n創業後10 年後まで存続できる企業は6％しかないと言われています。 \n\n\n\n世の中にはたくさんの「こうすれば儲かる」的な情報があふれています。しかし、それらの多くは「一部分」の断片的なノウハウです。 \n\n\n\nあなたのビジネスにとっての指針や経営ノウハウは、どこにも売っていないということです。実は経営者にとって経営を学ぶところがありません。しかも、大企業の経営ではなく、スモールビジネスに特化した「経営」を学べる場所は、なかなか見当たりません。 \n\n\n\nこんな場をこの埼玉で作りたい、そんな思いから【the DRILL アカデミー】を立ち上げました。 \n\n\n\nなぜ「the DRILL アカデミー」を開催することにしたの？\n\n\n\nもしあなたが \n\n\n\n「なにを基準に経営をしたら良いか分からない」「将来やりたいことがあるけど、お金の面で、いつ実現できるかわからない」「財務やお金周りのことは全くやって来なかった」「事業を大きくしたいけど、売上も伸びず、どうすれば良いかわからない」「経営セミナーなど参加、勉強して実践してみたけど、まったく意味がなかった」「ノウハウは学び、知っているけど、実際の成果につながっていかない」のならば・・・ \n\n\n\n目先の仕事、売上に右往左往せず、自分らしいビジネスをしていくためにも正しい経営について学び、戦略を考え、実行していく必要があります。 \n\n\n\nそのために、まずは経営について正しく考える場に身をおくことから。経営戦略the DRILLアカデミーは、今現在の仕事の課題と次のステージ（なりたい将来、本当にやりたい仕事）を明確にして、次のステージに向けての基盤を作るための場です。 \n\n\n\n今回のセミナーに２時間だけご自身のために投資し、体験いただければと思います。きっとその投資が、あなたにとって、ビジネスモデルを大きく見直し、人生のラインを変えていくきっかけになるはずです。 \n\n\n\nご参加をお待ちしております。 \n\n\n\n開催概要\n\n\n\n開催日時\n\n\n\n2月8日（火）10時〜12時（銀座会場）2月11日（金）15時〜17時（zoom）2月18日（金）13時〜15時（zoom）2月26日（土）13時〜15時（zoom）3月8日（火）10時〜12時（銀座会場）3月11日（金）15時〜17時（zoom）3月18日（金）13時〜15時（zoom）3月26日（土）13時〜15時（zoom）\n\n\n\n※リアル開催は新型コロナの感染拡大のリスクを考慮しオンライン開催に変更になる場合があります。 \n\n\n\n定員\n\n\n\n各回5名 \n\n\n\n参加費\n\n\n\n通常価格16\,500円（税込）→特別価格8\,800円（税込） \n\n\n\n会場\n\n\n\nお申込み後、メールにて開催会場、zoom会場の情報をお送りいたします。 \n\n\n\n\nセミナーの申し込みはこちら
URL:https://the-drill.com/event/%e3%82%bb%e3%83%9f%e3%83%8a%e3%83%bc3/
LOCATION:オンライン開催
CATEGORIES:セミナー情報
ATTACH;FMTTYPE=image/jpeg:https://the-drill.com/wp-content/uploads/2020/09/Session4.jpg
END:VEVENT
END:VCALENDAR